BEGIN:VCALENDAR
VERSION:2.0
PRODID:-//Steamer N.10 Theatre - ECPv6.15.13.1//NONSGML v1.0//EN
CALSCALE:GREGORIAN
METHOD:PUBLISH
X-WR-CALNAME:Steamer N.10 Theatre
X-ORIGINAL-URL:https://steamer10theatre.org
X-WR-CALDESC:Events for Steamer N.10 Theatre
REFRESH-INTERVAL;VALUE=DURATION:PT1H
X-Robots-Tag:noindex
X-PUBLISHED-TTL:PT1H
BEGIN:VTIMEZONE
TZID:America/New_York
BEGIN:DAYLIGHT
TZOFFSETFROM:-0500
TZOFFSETTO:-0400
TZNAME:EDT
DTSTART:20220313T070000
END:DAYLIGHT
BEGIN:STANDARD
TZOFFSETFROM:-0400
TZOFFSETTO:-0500
TZNAME:EST
DTSTART:20221106T060000
END:STANDARD
BEGIN:DAYLIGHT
TZOFFSETFROM:-0500
TZOFFSETTO:-0400
TZNAME:EDT
DTSTART:20230312T070000
END:DAYLIGHT
BEGIN:STANDARD
TZOFFSETFROM:-0400
TZOFFSETTO:-0500
TZNAME:EST
DTSTART:20231105T060000
END:STANDARD
BEGIN:DAYLIGHT
TZOFFSETFROM:-0500
TZOFFSETTO:-0400
TZNAME:EDT
DTSTART:20240310T070000
END:DAYLIGHT
BEGIN:STANDARD
TZOFFSETFROM:-0400
TZOFFSETTO:-0500
TZNAME:EST
DTSTART:20241103T060000
END:STANDARD
END:VTIMEZONE
BEGIN:VEVENT
DTSTART;TZID=America/New_York:20230215T190000
DTEND;TZID=America/New_York:20230215T203000
DTSTAMP:20260419T171723
CREATED:20230102T173722Z
LAST-MODIFIED:20230203T031945Z
UID:10000073-1676487600-1676493000@steamer10theatre.org
SUMMARY:Cabin in the Sky
DESCRIPTION:The next film to be shown on Wednesday\, February 15th at 7pm\, at the Steamer No.10 Theatre\, 500 Western\, Albany is “Cabin in the Sky” (1943) Musical Fantasy\, IMDB: 7.1 BW\, 98 min. A compulsive gambler dies during a shooting\, but receives a second chance to reform and to make up with his devoted wife. All Black cast. \nAdmission free\, $5 donation suggested.
URL:https://steamer10theatre.org/event/cabin-in-the-sky/
LOCATION:Steamer N.10 Theatre\, 500 Western Ave\, Albany\, NY\, 12203\, United States
CATEGORIES:Pine Hills Film Series
ATTACH;FMTTYPE=image/jpeg:https://steamer10theatre.org/wp-content/uploads/2023/01/Cabin_in_the_Sky_1943_film_poster-scaled.jpg
END:VEVENT
END:VCALENDAR