BEGIN:VCALENDAR
VERSION:2.0
PRODID:-//Steamer N.10 Theatre - ECPv6.15.13.1//NONSGML v1.0//EN
CALSCALE:GREGORIAN
METHOD:PUBLISH
X-WR-CALNAME:Steamer N.10 Theatre
X-ORIGINAL-URL:https://steamer10theatre.org
X-WR-CALDESC:Events for Steamer N.10 Theatre
REFRESH-INTERVAL;VALUE=DURATION:PT1H
X-Robots-Tag:noindex
X-PUBLISHED-TTL:PT1H
BEGIN:VTIMEZONE
TZID:America/New_York
BEGIN:DAYLIGHT
TZOFFSETFROM:-0500
TZOFFSETTO:-0400
TZNAME:EDT
DTSTART:20230312T070000
END:DAYLIGHT
BEGIN:STANDARD
TZOFFSETFROM:-0400
TZOFFSETTO:-0500
TZNAME:EST
DTSTART:20231105T060000
END:STANDARD
BEGIN:DAYLIGHT
TZOFFSETFROM:-0500
TZOFFSETTO:-0400
TZNAME:EDT
DTSTART:20240310T070000
END:DAYLIGHT
BEGIN:STANDARD
TZOFFSETFROM:-0400
TZOFFSETTO:-0500
TZNAME:EST
DTSTART:20241103T060000
END:STANDARD
BEGIN:DAYLIGHT
TZOFFSETFROM:-0500
TZOFFSETTO:-0400
TZNAME:EDT
DTSTART:20250309T070000
END:DAYLIGHT
BEGIN:STANDARD
TZOFFSETFROM:-0400
TZOFFSETTO:-0500
TZNAME:EST
DTSTART:20251102T060000
END:STANDARD
END:VTIMEZONE
BEGIN:VEVENT
DTSTART;TZID=America/New_York:20241108T190000
DTEND;TZID=America/New_York:20241108T210000
DTSTAMP:20260425T104919
CREATED:20241010T013155Z
LAST-MODIFIED:20241109T120611Z
UID:10000201-1731092400-1731099600@steamer10theatre.org
SUMMARY:25th Annual Spelling Bee
DESCRIPTION:The Tony Award-winning musical\, which was first conceived locally at the Barrington Stage Company in 2004\, follows the trials and tribulations of six pre-teen spellers at their regional spelling bee\, where the winner gets to go on to the national bee in Washington\, D.C. As the show progresses\, we see the inner struggles and joys for each of the six children\, along with the three adults who are running the bee. Highly improvisational\, no two productions are the same and audience participation occurs at every performance as four audience members are selected to join the spellers on stage to compete in the bee. Containing iconic musical theater songs such as the show-stopping “Pandemonium” and heart-wrenching “The I Love You Song\,” audiences have packed theaters across the country for this beloved show.
URL:https://steamer10theatre.org/event/25th-annual-spelling-bee/
LOCATION:Steamer N.10 Theatre\, 500 Western Ave\, Albany\, NY\, 12203\, United States
ATTACH;FMTTYPE=image/jpeg:https://steamer10theatre.org/wp-content/uploads/2024/10/Spelling-Square-with-text.jpg
ORGANIZER;CN="Ric Chesser":MAILTO:info@steamer10theatre.org
END:VEVENT
BEGIN:VEVENT
DTSTART;TZID=America/New_York:20241109T190000
DTEND;TZID=America/New_York:20241109T210000
DTSTAMP:20260425T104919
CREATED:20241010T014028Z
LAST-MODIFIED:20241109T141537Z
UID:10000202-1731178800-1731186000@steamer10theatre.org
SUMMARY:25th Annual Spelling Bee
DESCRIPTION:The Tony Award-winning musical\, which was first conceived locally at the Barrington Stage Company in 2004\, follows the trials and tribulations of six pre-teen spellers at their regional spelling bee\, where the winner gets to go on to the national bee in Washington\, D.C. As the show progresses\, we see the inner struggles and joys for each of the six children\, along with the three adults who are running the bee. Highly improvisational\, no two productions are the same and audience participation occurs at every performance as four audience members are selected to join the spellers on stage to compete in the bee. Containing iconic musical theater songs such as the show-stopping “Pandemonium” and heart-wrenching “The I Love You Song\,” audiences have packed theaters across the country for this beloved show.
URL:https://steamer10theatre.org/event/25th-annual-spelling-bee-2/
LOCATION:Steamer N.10 Theatre\, 500 Western Ave\, Albany\, NY\, 12203\, United States
ATTACH;FMTTYPE=image/jpeg:https://steamer10theatre.org/wp-content/uploads/2024/10/Spelling-Square-with-text.jpg
ORGANIZER;CN="Ric Chesser":MAILTO:info@steamer10theatre.org
END:VEVENT
BEGIN:VEVENT
DTSTART;TZID=America/New_York:20241110T150000
DTEND;TZID=America/New_York:20241110T170000
DTSTAMP:20260425T104919
CREATED:20241010T014719Z
LAST-MODIFIED:20241109T143008Z
UID:10000203-1731250800-1731258000@steamer10theatre.org
SUMMARY:25th Annual Spelling Bee
DESCRIPTION:The Tony Award-winning musical\, which was first conceived locally at the Barrington Stage Company in 2004\, follows the trials and tribulations of six pre-teen spellers at their regional spelling bee\, where the winner gets to go on to the national bee in Washington\, D.C. As the show progresses\, we see the inner struggles and joys for each of the six children\, along with the three adults who are running the bee. Highly improvisational\, no two productions are the same and audience participation occurs at every performance as four audience members are selected to join the spellers on stage to compete in the bee. Containing iconic musical theater songs such as the show-stopping “Pandemonium” and heart-wrenching “The I Love You Song\,” audiences have packed theaters across the country for this beloved show.
URL:https://steamer10theatre.org/event/25th-annual-spelling-bee-3/
LOCATION:Steamer N.10 Theatre\, 500 Western Ave\, Albany\, NY\, 12203\, United States
ATTACH;FMTTYPE=image/jpeg:https://steamer10theatre.org/wp-content/uploads/2024/10/Spelling-Square-with-text.jpg
ORGANIZER;CN="Ric Chesser":MAILTO:info@steamer10theatre.org
END:VEVENT
BEGIN:VEVENT
DTSTART;TZID=America/New_York:20241110T190000
DTEND;TZID=America/New_York:20241110T210000
DTSTAMP:20260425T104919
CREATED:20241109T143937Z
LAST-MODIFIED:20241109T144249Z
UID:10000212-1731265200-1731272400@steamer10theatre.org
SUMMARY:PHFS - I'm All Right Jack
DESCRIPTION:Pine Hills Film Series\nI’m All Right Jack\n(1959) Comedy – B&W – 105 min.\nSunday\, October 10 at 7:pm\nAdmission free\, $5 donation suggested.\nFactory bosses’ greed & workers’ self-interest collide in this funny   satire on British labor-management relations.\nPeter Sellers\, Ian Carmichael\, Terry-Thomas – Dir: John Boulting \n 
URL:https://steamer10theatre.org/event/phfs-im-all-right-jack/
LOCATION:Steamer N.10 Theatre\, 500 Western Ave\, Albany\, NY\, 12203\, United States
ATTACH;FMTTYPE=image/jpeg:https://steamer10theatre.org/wp-content/uploads/2024/11/MV5BMTcwNDIwNTY5OF5BMl5BanBnXkFtZTgwMzgyMzI2NTE@._V1_.jpg
ORGANIZER;CN="Ric Chesser":MAILTO:info@steamer10theatre.org
END:VEVENT
BEGIN:VEVENT
DTSTART;TZID=America/New_York:20241115T190000
DTEND;TZID=America/New_York:20241115T210000
DTSTAMP:20260425T104919
CREATED:20241010T015203Z
LAST-MODIFIED:20241010T015203Z
UID:10000204-1731697200-1731704400@steamer10theatre.org
SUMMARY:25th Annual Spelling Bee
DESCRIPTION:The Tony Award-winning musical\, which was first conceived locally at the Barrington Stage Company in 2004\, follows the trials and tribulations of six pre-teen spellers at their regional spelling bee\, where the winner gets to go on to the national bee in Washington\, D.C. As the show progresses\, we see the inner struggles and joys for each of the six children\, along with the three adults who are running the bee. Highly improvisational\, no two productions are the same and audience participation occurs at every performance as four audience members are selected to join the spellers on stage to compete in the bee. Containing iconic musical theater songs such as the show-stopping “Pandemonium” and heart-wrenching “The I Love You Song\,” audiences have packed theaters across the country for this beloved show.
URL:https://steamer10theatre.org/event/25th-annual-spelling-bee-4/
LOCATION:Steamer N.10 Theatre\, 500 Western Ave\, Albany\, NY\, 12203\, United States
ATTACH;FMTTYPE=image/jpeg:https://steamer10theatre.org/wp-content/uploads/2024/10/Spelling-Square-with-text.jpg
ORGANIZER;CN="Ric Chesser":MAILTO:info@steamer10theatre.org
END:VEVENT
BEGIN:VEVENT
DTSTART;TZID=America/New_York:20241116T190000
DTEND;TZID=America/New_York:20241116T210000
DTSTAMP:20260425T104919
CREATED:20241010T015759Z
LAST-MODIFIED:20241010T015759Z
UID:10000205-1731783600-1731790800@steamer10theatre.org
SUMMARY:25th Annual Spelling Bee
DESCRIPTION:The Tony Award-winning musical\, which was first conceived locally at the Barrington Stage Company in 2004\, follows the trials and tribulations of six pre-teen spellers at their regional spelling bee\, where the winner gets to go on to the national bee in Washington\, D.C. As the show progresses\, we see the inner struggles and joys for each of the six children\, along with the three adults who are running the bee. Highly improvisational\, no two productions are the same and audience participation occurs at every performance as four audience members are selected to join the spellers on stage to compete in the bee. Containing iconic musical theater songs such as the show-stopping “Pandemonium” and heart-wrenching “The I Love You Song\,” audiences have packed theaters across the country for this beloved show.
URL:https://steamer10theatre.org/event/25th-annual-spelling-bee-5/
LOCATION:Steamer N.10 Theatre\, 500 Western Ave\, Albany\, NY\, 12203\, United States
ATTACH;FMTTYPE=image/jpeg:https://steamer10theatre.org/wp-content/uploads/2024/10/Spelling-Square-with-text.jpg
ORGANIZER;CN="Ric Chesser":MAILTO:info@steamer10theatre.org
END:VEVENT
BEGIN:VEVENT
DTSTART;TZID=America/New_York:20241117T150000
DTEND;TZID=America/New_York:20241117T170000
DTSTAMP:20260425T104919
CREATED:20241010T020258Z
LAST-MODIFIED:20241109T151554Z
UID:10000206-1731855600-1731862800@steamer10theatre.org
SUMMARY:25th Annual Spelling Bee
DESCRIPTION:The Tony Award-winning musical\, which was first conceived locally at the Barrington Stage Company in 2004\, follows the trials and tribulations of six pre-teen spellers at their regional spelling bee\, where the winner gets to go on to the national bee in Washington\, D.C. As the show progresses\, we see the inner struggles and joys for each of the six children\, along with the three adults who are running the bee. Highly improvisational\, no two productions are the same and audience participation occurs at every performance as four audience members are selected to join the spellers on stage to compete in the bee. Containing iconic musical theater songs such as the show-stopping “Pandemonium” and heart-wrenching “The I Love You Song\,” audiences have packed theaters across the country for this beloved show.
URL:https://steamer10theatre.org/event/25th-annual-spelling-bee-6/
LOCATION:Steamer N.10 Theatre\, 500 Western Ave\, Albany\, NY\, 12203\, United States
ATTACH;FMTTYPE=image/jpeg:https://steamer10theatre.org/wp-content/uploads/2024/10/Spelling-Square-with-text.jpg
ORGANIZER;CN="Ric Chesser":MAILTO:info@steamer10theatre.org
END:VEVENT
BEGIN:VEVENT
DTSTART;TZID=America/New_York:20241123T160000
DTEND;TZID=America/New_York:20241124T020000
DTSTAMP:20260425T104919
CREATED:20241121T020717Z
LAST-MODIFIED:20241121T021815Z
UID:10000214-1732377600-1732413600@steamer10theatre.org
SUMMARY:Horror - Stomp-N-Stein's Monster
DESCRIPTION:Revenge of the Sequel
URL:https://steamer10theatre.org/event/horror-stomp-n-steins-monster/
LOCATION:Steamer N.10 Theatre\, 500 Western Ave\, Albany\, NY\, 12203\, United States
ATTACH;FMTTYPE=image/jpeg:https://steamer10theatre.org/wp-content/uploads/2024/11/Poster-Tims-Horror-Nov.-23-C-scaled.jpg
ORGANIZER;CN="Ric Chesser":MAILTO:info@steamer10theatre.org
END:VEVENT
BEGIN:VEVENT
DTSTART;TZID=America/New_York:20241124T190000
DTEND;TZID=America/New_York:20241124T210000
DTSTAMP:20260425T104919
CREATED:20241121T021220Z
LAST-MODIFIED:20241121T021220Z
UID:10000213-1732474800-1732482000@steamer10theatre.org
SUMMARY:Cathy's Classics - Witness for the Prosecution
DESCRIPTION:(1957) Legal Drama\, Mystery\, Thriller B&W\, 116 min. \nSunday\, November 24 at 7:pm\nAdmission free\, $5 donation suggested.\nVeteran barrister defends his client in a murder trial with surprise after surprise.\nDir: Billy Wilder; Tyrone Power\, Marlene Dietrich\, Charles Laughton \n 
URL:https://steamer10theatre.org/event/cathys-classics-witness-for-the-prosecution/
LOCATION:Steamer N.10 Theatre\, 500 Western Ave\, Albany\, NY\, 12203\, United States
ATTACH;FMTTYPE=image/jpeg:https://steamer10theatre.org/wp-content/uploads/2024/11/Witness-3.jpg
ORGANIZER;CN="Ric Chesser":MAILTO:info@steamer10theatre.org
END:VEVENT
END:VCALENDAR