BEGIN:VCALENDAR
VERSION:2.0
PRODID:-//Steamer N.10 Theatre - ECPv6.15.13.1//NONSGML v1.0//EN
CALSCALE:GREGORIAN
METHOD:PUBLISH
X-ORIGINAL-URL:https://steamer10theatre.org
X-WR-CALDESC:Events for Steamer N.10 Theatre
REFRESH-INTERVAL;VALUE=DURATION:PT1H
X-Robots-Tag:noindex
X-PUBLISHED-TTL:PT1H
BEGIN:VTIMEZONE
TZID:America/New_York
BEGIN:DAYLIGHT
TZOFFSETFROM:-0500
TZOFFSETTO:-0400
TZNAME:EDT
DTSTART:20230312T070000
END:DAYLIGHT
BEGIN:STANDARD
TZOFFSETFROM:-0400
TZOFFSETTO:-0500
TZNAME:EST
DTSTART:20231105T060000
END:STANDARD
BEGIN:DAYLIGHT
TZOFFSETFROM:-0500
TZOFFSETTO:-0400
TZNAME:EDT
DTSTART:20240310T070000
END:DAYLIGHT
BEGIN:STANDARD
TZOFFSETFROM:-0400
TZOFFSETTO:-0500
TZNAME:EST
DTSTART:20241103T060000
END:STANDARD
BEGIN:DAYLIGHT
TZOFFSETFROM:-0500
TZOFFSETTO:-0400
TZNAME:EDT
DTSTART:20250309T070000
END:DAYLIGHT
BEGIN:STANDARD
TZOFFSETFROM:-0400
TZOFFSETTO:-0500
TZNAME:EST
DTSTART:20251102T060000
END:STANDARD
END:VTIMEZONE
BEGIN:VEVENT
DTSTART;TZID=America/New_York:20241123T160000
DTEND;TZID=America/New_York:20241124T020000
DTSTAMP:20260425T092605
CREATED:20241121T020717Z
LAST-MODIFIED:20241121T021815Z
UID:10000214-1732377600-1732413600@steamer10theatre.org
SUMMARY:Horror - Stomp-N-Stein's Monster
DESCRIPTION:Revenge of the Sequel
URL:https://steamer10theatre.org/event/horror-stomp-n-steins-monster/
LOCATION:Steamer N.10 Theatre\, 500 Western Ave\, Albany\, NY\, 12203\, United States
ATTACH;FMTTYPE=image/jpeg:https://steamer10theatre.org/wp-content/uploads/2024/11/Poster-Tims-Horror-Nov.-23-C-scaled.jpg
ORGANIZER;CN="Ric Chesser":MAILTO:info@steamer10theatre.org
END:VEVENT
BEGIN:VEVENT
DTSTART;TZID=America/New_York:20241124T190000
DTEND;TZID=America/New_York:20241124T210000
DTSTAMP:20260425T092605
CREATED:20241121T021220Z
LAST-MODIFIED:20241121T021220Z
UID:10000213-1732474800-1732482000@steamer10theatre.org
SUMMARY:Cathy's Classics - Witness for the Prosecution
DESCRIPTION:(1957) Legal Drama\, Mystery\, Thriller B&W\, 116 min. \nSunday\, November 24 at 7:pm\nAdmission free\, $5 donation suggested.\nVeteran barrister defends his client in a murder trial with surprise after surprise.\nDir: Billy Wilder; Tyrone Power\, Marlene Dietrich\, Charles Laughton \n 
URL:https://steamer10theatre.org/event/cathys-classics-witness-for-the-prosecution/
LOCATION:Steamer N.10 Theatre\, 500 Western Ave\, Albany\, NY\, 12203\, United States
ATTACH;FMTTYPE=image/jpeg:https://steamer10theatre.org/wp-content/uploads/2024/11/Witness-3.jpg
ORGANIZER;CN="Ric Chesser":MAILTO:info@steamer10theatre.org
END:VEVENT
END:VCALENDAR