BEGIN:VCALENDAR
VERSION:2.0
PRODID:-//Steamer N.10 Theatre - ECPv6.15.13.1//NONSGML v1.0//EN
CALSCALE:GREGORIAN
METHOD:PUBLISH
X-ORIGINAL-URL:https://steamer10theatre.org
X-WR-CALDESC:Events for Steamer N.10 Theatre
REFRESH-INTERVAL;VALUE=DURATION:PT1H
X-Robots-Tag:noindex
X-PUBLISHED-TTL:PT1H
BEGIN:VTIMEZONE
TZID:America/New_York
BEGIN:DAYLIGHT
TZOFFSETFROM:-0500
TZOFFSETTO:-0400
TZNAME:EDT
DTSTART:20230312T070000
END:DAYLIGHT
BEGIN:STANDARD
TZOFFSETFROM:-0400
TZOFFSETTO:-0500
TZNAME:EST
DTSTART:20231105T060000
END:STANDARD
BEGIN:DAYLIGHT
TZOFFSETFROM:-0500
TZOFFSETTO:-0400
TZNAME:EDT
DTSTART:20240310T070000
END:DAYLIGHT
BEGIN:STANDARD
TZOFFSETFROM:-0400
TZOFFSETTO:-0500
TZNAME:EST
DTSTART:20241103T060000
END:STANDARD
BEGIN:DAYLIGHT
TZOFFSETFROM:-0500
TZOFFSETTO:-0400
TZNAME:EDT
DTSTART:20250309T070000
END:DAYLIGHT
BEGIN:STANDARD
TZOFFSETFROM:-0400
TZOFFSETTO:-0500
TZNAME:EST
DTSTART:20251102T060000
END:STANDARD
END:VTIMEZONE
BEGIN:VEVENT
DTSTART;TZID=America/New_York:20241209T190000
DTEND;TZID=America/New_York:20241209T213000
DTSTAMP:20260418T014113
CREATED:20241125T161420Z
LAST-MODIFIED:20241125T161743Z
UID:10000217-1733770800-1733779800@steamer10theatre.org
SUMMARY:Adult Auditions for Carrie: the Musical!
DESCRIPTION:Audition Announcement! \nCALL FOR ADULT PERFORMERS for \nCARRIE: THE MUSICAL  \nMusic by Michael Gore\nLyrics by Dean Pitchford\nBook by Lawrence D. Cohen\nBased on the novel by Stephen King \nDirector: Brian McBride Land \nMusic Director: Wendy Camilli \nFight Director: Eleah Jayne Peal \nChoreographer: Gregory Theodore Marsh \nProducer: Baruch Rainey \nSteamer No. 10 Theatre and the production team are committed to building a diverse\, authentic cast. Artists of any gender identity\, ethnicity\, and neurodiversity are encouraged to audition! This production is only casting artists 17 years of age and older. \nAUDITION INFORMATION \nAUDITION LOCATION \nSteamer No. 10 Theatre \n500 Western Ave.\, Albany\, NY 12203 \nStreet parking is available on Western and Madison\, please do not park in the spots marked off for police vehicles. You may park within the Citizens Bank parking lot (Western Ave) after bank business hours\, but please take care to avoid handicap/unauthorized spaces with signage. \nAUDITION DATE/TIME \nMonday\, December 9 and Wednesday\, December 11\, 2024 \nAUDITION DETAILS \nSign-in will begin at 6:30 p.m. Auditions will begin at 7:00 p.m. \nCallbacks will be held by invite only on Friday\, December 13\, 2024 at 7:00 p.m. \nArtists need to only attend one audition session. \nIf you have questions about the production or audition requirements\, feel free to reach out to the director at b.mcbride.land@gmail.com. \nIf you are not able to attend the audition dates/times but would still like to be considered for a role\, please submit an audition form and a video audition (singing approximately one minute of music that showcases your voice) to eleahjayne@steamer10theatre.org. \nAudition forms can be filled out prior to or at the audition\, please reach out to eleahjayne@steamer10theatre.org for electronic copies of the audition form in advance of auditions. \nWHAT TO PREPARE \nPlease come prepared with approximately one minute of music you feel shows off your unique talents and bring accompanying sheet music.  Music in the style of the show is preferred\, but not mandatory.  \nWe recommend wearing comfortable clothing and secure shoes at your auditions\, and particularly those called back as we will have a brief dance portion to callbacks rather than at the initial auditions. \nPRODUCTION DETAILS \nPERFORMANCE LOCATION  \nSteamer No. 10 Theatre\n500 Western Ave.\, Albany\, NY 12203 \nStreet parking is available on Western and Madison\, please do not park in the spots marked off for police vehicles. You may park within the Citizens Bank parking lot (Western Ave) after business hours\, but please take care to avoid handicap/unauthorized spaces with signage. \nPERFORMANCE DATES \nMay 2-4\, 2025\, and May 9-10\, 2025\nFridays and Saturdays at 7pm\, Sundays at 3pm \nREHEARSAL INFORMATION \nRehearsals will be held Monday/Wednesday/Friday evenings & Sunday afternoons beginning in February. A general rehearsal schedule will be available at auditions. \nA read-thru will be held on Sunday\, January 5th at 7:00 p.m. at the theater. \nA cast photo and promo shoot day will be scheduled based on cast and crew availability. \nAttendance is mandatory for Tech Sunday (April 27\, 2025)\, Tech Week rehearsals (April 28\, 29\, 30 and May 1\, 2025\, dark night TBD) and all performances. \nCHARACTER BREAKDOWN  \nPrincipals (5f\, 2m) \nCARRIE WHITE – A painfully shy outsider who\, in spite of her best efforts to belong\, has been the victim of her classmates’ cruel jokes since childhood\, as well as her mother’s strict\, biblically-oriented control at home. She transforms from ugly duckling into graceful – and then vengeful – swan. Vocally\, she must be capable of lyrical sweetness as well as fierce power. \nMARGARET WHITE – A woman of cisceral extremes\, she balances her fervent religious convictions with equally sincere true-believer spirituality and tender\, maternal love for Carrie. Like Carrie\, with whom she shares several duets\, her voice must range fromexpressive and melodic to ferocious and frightening. \nSUE SNELL – A straight-A student who’s been popular her entire life\, she’s remarkably level headed for her age. Her unthinking participation in a cruel act of bullying causes a crisis of conscience that leads her on a journey to try to right things. Vocally\, she has a pop ballad voice that delivers sweet sincerity and strength. \nTOMMY ROSS – Popular star athlete\, valedictorian\, and all around stand-out\, he’s the boy that all the girls want to be with\, and all the boys want to be. Yet he also has unexpected\, quirky sensitivity and is just starting to mine his personal life and feelings – a budding poet. His voice should have an effortless pop quality. \nCHRIS HARGENSEN – Rich\, spoiled-rotten\, and wickedly funny\, Chris is a popular beauty whose arrogant self-assurance makes her believe that the rules don’t apply to her. Loaded with sexual dynamite\, she has serious daddy issues and anger-management issues. Her voice is pop-rock percussive and powerful. \nBILLY NOLAN – Now in his sixth year in high school\, Billy’s a sexy\, stupid-like-a-fox bad boy whose wise mouth troublemaking has led him to spend more time in detention than in class. All these qualities make it easy for his girlfriend Chris to manipulate him to do her bidding. His voice is that of a wailing rocker. \nMISS LYNN GARDNER – Mid-30s\, this girls’ P.E. teacher can be a strict disciplinarian if necessary\, but when Carrie arouses her maternal instinct\, she surprises herself by also revealing a protective “fairy godmother” side. Her voice is warm and strong\, just like the woman. \nEnsemble Roles (3f\, 4m) \nMR. STEPHENS – Late-30s\, this well-intentioned English teacher and guidance counselor struggles to help his students realize their potential. A dedicated educator\, he’s stretched thin in his duties\, woefully underpaid\, and a bit overwhelmed as to how to handle the Billy Nolans of the classroom combat zone. \nREVEREND BLISS – can be played by the same actor as Mr. Stephens \nSUE’S INTERROGATORS – Voices Only: 1f\, 1m \nFRIEDA – Sue’s brainy pal\, she’s an easy-going\, get-along follower and a tireless extracurricular committee volunteer. \nNORMA – Bitchy\, gossipy and a shameless suck-up to authority\, Norma is second-in-command to Chris’ queen bee. \nHELEN – Giggly and easily shocked\, her immaturity and need to belong make her the perfect example of the herd mentality. \nGEORGE – Tommy’s jock wingman since childhood\, George idolizes him. Perhaps a little too much… \nSTOKES – A bit of a nerd\, he’s happy to be included as one of Tommy’s posse. \nFREDDY – The wise-cracking class clown and official yearbook photographer\, he can’t believe any girl would ever give him the time of day. \n 
URL:https://steamer10theatre.org/event/adult-auditions-for-carrie-the-musical/
LOCATION:Steamer N.10 Theatre\, 500 Western Ave\, Albany\, NY\, 12203\, United States
ATTACH;FMTTYPE=image/jpeg:https://steamer10theatre.org/wp-content/uploads/2024/11/carrie.jpeg
ORGANIZER;CN="Eleah Jayne":MAILTO:eleahjayne@steamer10theatre.org
END:VEVENT
BEGIN:VEVENT
DTSTART;TZID=America/New_York:20241211T190000
DTEND;TZID=America/New_York:20241211T213000
DTSTAMP:20260418T014113
CREATED:20241125T161652Z
LAST-MODIFIED:20241125T161652Z
UID:10000218-1733943600-1733952600@steamer10theatre.org
SUMMARY:Adult Auditions for Carrie: the Musical!
DESCRIPTION:Audition Announcement! \nCALL FOR ADULT PERFORMERS for \nCARRIE: THE MUSICAL  \nMusic by Michael Gore\nLyrics by Dean Pitchford\nBook by Lawrence D. Cohen\nBased on the novel by Stephen King \nDirector: Brian McBride Land \nMusic Director: Wendy Camilli \nFight Director: Eleah Jayne Peal \nChoreographer: Gregory Theodore Marsh \nProducer: Baruch Rainey \nSteamer No. 10 Theatre and the production team are committed to building a diverse\, authentic cast. Artists of any gender identity\, ethnicity\, and neurodiversity are encouraged to audition! This production is only casting artists 17 years of age and older. \nAUDITION INFORMATION \nAUDITION LOCATION \nSteamer No. 10 Theatre \n500 Western Ave.\, Albany\, NY 12203 \nStreet parking is available on Western and Madison\, please do not park in the spots marked off for police vehicles. You may park within the Citizens Bank parking lot (Western Ave) after bank business hours\, but please take care to avoid handicap/unauthorized spaces with signage. \nAUDITION DATE/TIME \nMonday\, December 9 and Wednesday\, December 11\, 2024 \nAUDITION DETAILS \nSign-in will begin at 6:30 p.m. Auditions will begin at 7:00 p.m. \nCallbacks will be held by invite only on Friday\, December 13\, 2024 at 7:00 p.m. \nArtists need to only attend one audition session. \nIf you have questions about the production or audition requirements\, feel free to reach out to the director at b.mcbride.land@gmail.com. \nIf you are not able to attend the audition dates/times but would still like to be considered for a role\, please submit an audition form and a video audition (singing approximately one minute of music that showcases your voice) to eleahjayne@steamer10theatre.org. \nAudition forms can be filled out prior to or at the audition\, please reach out to eleahjayne@steamer10theatre.org for electronic copies of the audition form in advance of auditions. \nWHAT TO PREPARE \nPlease come prepared with approximately one minute of music you feel shows off your unique talents and bring accompanying sheet music.  Music in the style of the show is preferred\, but not mandatory.  \nWe recommend wearing comfortable clothing and secure shoes at your auditions\, and particularly those called back as we will have a brief dance portion to callbacks rather than at the initial auditions. \nPRODUCTION DETAILS \nPERFORMANCE LOCATION  \nSteamer No. 10 Theatre\n500 Western Ave.\, Albany\, NY 12203 \nStreet parking is available on Western and Madison\, please do not park in the spots marked off for police vehicles. You may park within the Citizens Bank parking lot (Western Ave) after business hours\, but please take care to avoid handicap/unauthorized spaces with signage. \nPERFORMANCE DATES \nMay 2-4\, 2025\, and May 9-10\, 2025\nFridays and Saturdays at 7pm\, Sundays at 3pm \nREHEARSAL INFORMATION \nRehearsals will be held Monday/Wednesday/Friday evenings & Sunday afternoons beginning in February. A general rehearsal schedule will be available at auditions. \nA read-thru will be held on Sunday\, January 5th at 7:00 p.m. at the theater. \nA cast photo and promo shoot day will be scheduled based on cast and crew availability. \nAttendance is mandatory for Tech Sunday (April 27\, 2025)\, Tech Week rehearsals (April 28\, 29\, 30 and May 1\, 2025\, dark night TBD) and all performances. \n\nCHARACTER BREAKDOWN  \nPrincipals (5f\, 2m) \nCARRIE WHITE – A painfully shy outsider who\, in spite of her best efforts to belong\, has been the victim of her classmates’ cruel jokes since childhood\, as well as her mother’s strict\, biblically-oriented control at home. She transforms from ugly duckling into graceful – and then vengeful – swan. Vocally\, she must be capable of lyrical sweetness as well as fierce power. \nMARGARET WHITE – A woman of cisceral extremes\, she balances her fervent religious convictions with equally sincere true-believer spirituality and tender\, maternal love for Carrie. Like Carrie\, with whom she shares several duets\, her voice must range fromexpressive and melodic to ferocious and frightening. \nSUE SNELL – A straight-A student who’s been popular her entire life\, she’s remarkably level headed for her age. Her unthinking participation in a cruel act of bullying causes a crisis of conscience that leads her on a journey to try to right things. Vocally\, she has a pop ballad voice that delivers sweet sincerity and strength. \nTOMMY ROSS – Popular star athlete\, valedictorian\, and all around stand-out\, he’s the boy that all the girls want to be with\, and all the boys want to be. Yet he also has unexpected\, quirky sensitivity and is just starting to mine his personal life and feelings – a budding poet. His voice should have an effortless pop quality. \nCHRIS HARGENSEN – Rich\, spoiled-rotten\, and wickedly funny\, Chris is a popular beauty whose arrogant self-assurance makes her believe that the rules don’t apply to her. Loaded with sexual dynamite\, she has serious daddy issues and anger-management issues. Her voice is pop-rock percussive and powerful. \nBILLY NOLAN – Now in his sixth year in high school\, Billy’s a sexy\, stupid-like-a-fox bad boy whose wise mouth troublemaking has led him to spend more time in detention than in class. All these qualities make it easy for his girlfriend Chris to manipulate him to do her bidding. His voice is that of a wailing rocker. \nMISS LYNN GARDNER – Mid-30s\, this girls’ P.E. teacher can be a strict disciplinarian if necessary\, but when Carrie arouses her maternal instinct\, she surprises herself by also revealing a protective “fairy godmother” side. Her voice is warm and strong\, just like the woman. \nEnsemble Roles (3f\, 4m) \nMR. STEPHENS – Late-30s\, this well-intentioned English teacher and guidance counselor struggles to help his students realize their potential. A dedicated educator\, he’s stretched thin in his duties\, woefully underpaid\, and a bit overwhelmed as to how to handle the Billy Nolans of the classroom combat zone. \nREVEREND BLISS – can be played by the same actor as Mr. Stephens \nSUE’S INTERROGATORS – Voices Only: 1f\, 1m \nFRIEDA – Sue’s brainy pal\, she’s an easy-going\, get-along follower and a tireless extracurricular committee volunteer. \nNORMA – Bitchy\, gossipy and a shameless suck-up to authority\, Norma is second-in-command to Chris’ queen bee. \nHELEN – Giggly and easily shocked\, her immaturity and need to belong make her the perfect example of the herd mentality. \nGEORGE – Tommy’s jock wingman since childhood\, George idolizes him. Perhaps a little too much… \nSTOKES – A bit of a nerd\, he’s happy to be included as one of Tommy’s posse. \nFREDDY – The wise-cracking class clown and official yearbook photographer\, he can’t believe any girl would ever give him the time of day.
URL:https://steamer10theatre.org/event/adult-auditions-for-carrie-the-musical-2/
LOCATION:Steamer N.10 Theatre\, 500 Western Ave\, Albany\, NY\, 12203\, United States
ATTACH;FMTTYPE=image/jpeg:https://steamer10theatre.org/wp-content/uploads/2024/11/carrie.jpeg
ORGANIZER;CN="Eleah Jayne":MAILTO:eleahjayne@steamer10theatre.org
END:VEVENT
BEGIN:VEVENT
DTSTART;TZID=America/New_York:20241214T110000
DTEND;TZID=America/New_York:20241214T130000
DTSTAMP:20260418T014113
CREATED:20241121T202734Z
LAST-MODIFIED:20241121T203147Z
UID:10000215-1734174000-1734181200@steamer10theatre.org
SUMMARY:CAST Auditions - A Wrinkle in Time
DESCRIPTION:Steamer No.10 Theatre is holding\nC.A.S.T. Program Auditions for\nA WRINKLE IN TIME\nBook by Madeleine L’Engle\nAdapted by Morgan Gould\nDirected (& Program led) by Cleis Hahn\nAuditions will be held Saturday & Sunday\, December 14 & 15 from 11:00am to 1:00pm.\nABOUT THE SHOW\nOne of literature’s most enduring young heroines\, Meg Murry\, is back — braces\, stubbornness and all. Once again\, she’s joining forces with Mrs Whatsit\, Charles Wallace\, Calvin O’Keefe and more to battle the forces of evil so she can rescue her father\, save humanity and find herself. In the end\, we know two things for sure: 1. Love CAN overcome evil and 2. There IS such a thing as a tesseract. Perfect for schools and touring groups\, this one-act adaptation of the beloved novel masterfully retells the story in a fresh and enduring way. \nSteamer No. 10 Theatre’s program directors are committed to building a diverse\, authentic cast\, supporting ALL students.  \nYoung artists of any gender identity\, ethnicity\, and neurodiversity are encouraged to audition!  \nPlease Note: This production is only casting student artists between ages 8-16. \nAUDITION INFO\nAUDITION DATE/TIME \nSaturday\, December 14\, 2024 and Sunday\, December 15\, 2024 \nLOCATION \nSteamer No. 10 Theatre \n500 Western Ave.\, Albany\, NY 12203 \nStreet parking is available on Western and Madison\, please do not park in the spots marked off for police vehicles. You may park within the Citizens Bank parking lot (Western Ave) after business hours\, but please take care to avoid handicap/unauthorized spaces with signage. \nAUDITION DETAILS\nSign-in will begin at 10:30 a.m.  \nAuditions will begin at 11:00 a.m. and end at 1:00 p.m. \nStudents need only attend one audition session\, though welcome to attend both. \nWHAT TO PREPARE \nSides or scripts will be provided for students to read from at the auditions. \nWe ask that students be prepared to fill out any conflicts they may have Mon.-Fri. evenings and Saturdays/Sundays from end of September through mid January. \nAdditionally\, we recommend wearing comfortable clothing and secure shoes. \nPRODUCTION DETAILS\nPERFORMANCE DATES \nMarch 21-23 and 28-30\, 2025\nFridays at 7pm\, Saturdays & Sundays at 3pm \nREHEARSAL INFORMATION \nRehearsals will generally be held on Tuesday and Thursday evenings and on Saturdays (time based on participant availability) regularly beginning January 11th. Due to this show’s condensed rehearsal period\, select students with may be called once or twice on alternate dates between December 16th & 21st. \nAttendance is mandatory for Tech Sunday (March 16\, 2024)\, Tech Week rehearsals (March 17-20\, 2025 with one dark day TBA)  and all performances. \nPlease contact eleahjayne@steamer10theatre.org with any questions or if a student is interested in auditioning but cannot make the audition dates. \nTuition for this program is $350.00 \nWe hope you’ll join us for our Spring C.A.S.T production of this beloved classic!
URL:https://steamer10theatre.org/event/auditions-a-wrinkle-in-time/
LOCATION:Steamer N.10 Theatre\, 500 Western Ave\, Albany\, NY\, 12203\, United States
ATTACH;FMTTYPE=image/png:https://steamer10theatre.org/wp-content/uploads/2024/11/Adapted-by-Morgan-Gould-1.png
ORGANIZER;CN="Eleah Jayne":MAILTO:eleahjayne@steamer10theatre.org
END:VEVENT
BEGIN:VEVENT
DTSTART;TZID=America/New_York:20241214T200000
DTEND;TZID=America/New_York:20241214T220000
DTSTAMP:20260418T014113
CREATED:20241211T201632Z
LAST-MODIFIED:20241211T201739Z
UID:10000222-1734206400-1734213600@steamer10theatre.org
SUMMARY:PROGENY Live Debut - Epic Progressive Rock!
DESCRIPTION:PROGENY\nJOIN US FOR THIS EPIC PROGRESSIVE ROCK CONCERT\nFEATURING THE MUSIC OF GENESIS\, RUSH\, YES\, ELP… AND MUCH MORE!\n  \nAnnouncing the debut performance of Progeny – a band and project dedicated to performing masterworks and gems of progressive rock. \nWe’ll be performing songs by ELP\, Genesis\, Yes\, and more\, and would love to see YOU there!! \nProgeny debuts live at Steamer No.10 December 14th at 8:00 PM\, concert admission FREE to the public! \n \nTom Monkell  \nA guitarist and composer based in Albany\, NY\, known for his ability to perform across a variety  of genres and settings. He has had the privilege of working as a substitute guitarist for many hit  Broadway musicals\, including Wicked\, The Book of Mormon\, Chicago\, Matilda\, Come From  Away\, and Dear Evan Hansen.  \nHe has toured across the U.S. and Canada\, as well as internationally with various companies\,  including the national tour of Come From Away\, The Big Apple Circus\, and Broadway Rox. He  has also enjoyed opportunities to perform with orchestras including the Albany Symphony\,  Glens Falls Symphony\, and Sage City Symphony. \n  \n \nDerrick Whaley  \nDrumming since junior high school while listening to a wide range of music including: jazz\,  rock\, R&B\, funk\, and progressive rock. In addition to playing acoustic and electronic drums\,  I’ve played various percussion and provide lead and backup vocals.   \nSome of my musical influences are Dave Weckl\, Thomas Lang\, Gavin Harrison\, Neil Peart\, Bill  Bruford\, Phil Collins\, and Steve Gadd. I became a studio engineer producing\, and recording\,  and writing music using Protools. I’ve had the pleasure of playing the NFL referees NewYear’s  Eve party\, Turning Stone Casino\, as well as several festivals and county fairs.  \n  \n \nJay Gold  \nBegan playing guitar at the age of nine and bass guitar by age 14. I learned to play the  trombone\, keyboard\, and sing lead and harmony vocals before recording my first studio demo  at age 15. I’ve had the honor of playing with thousands of extremely talented musicians over  my career in local bars to broadway and classical orchestra. The moments that have given me  the most joy are when I play Rush songs on stage with my two teenage sons in our family band  The Goldman Boys.   \n  \n  \n  \nWid DeSantis  \nWid is a pianist and keyboardist currently living and working in Albany. He has an extensive musical theater background having played for over 80 shows  in the Bay Area of California and the Capital District. He has also played in bands in Boston  and San Francisco and is currently an active piano accompanist in the area. \n  \nSteve Saccoccio  \nRaised on jazz\, blues\, and progressive rock\, I began singing and recording in my dad’s studio  at the age of five. In my teenage years I recorded with bands in studios on Long Island and  Connecticut. My love for music inspired me to learn to play several instruments including  drums\, guitar\, keyboard\, and harmonica.   \nI played the bar scene as well as larger venues for decades in Connecticut\, New Jersey\, and  the New York Hudson Valley. In the early 1980’s\, I performed in all the major rock clubs in the  Albany area and began writing and recording an EP for Polygram records by 1988. The most meaningful and heartfelt gigs have been the benefit fundraisers for children’s hospitals and  animal shelters.  \nI’ve enjoyed playing a wide variety of rock music but Progressive rock continues to be my  favorite style to sing and perform. I’m extremely grateful to find such fine musicians who  possess the talent and passion to bring this great music back to life.
URL:https://steamer10theatre.org/event/progeny-live-debut-epic-progressive-rock/
LOCATION:Steamer N.10 Theatre\, 500 Western Ave\, Albany\, NY\, 12203\, United States
ATTACH;FMTTYPE=image/jpeg:https://steamer10theatre.org/wp-content/uploads/2024/12/progeny.jpg
ORGANIZER;CN="Eleah Jayne":MAILTO:eleahjayne@steamer10theatre.org
END:VEVENT
BEGIN:VEVENT
DTSTART;TZID=America/New_York:20241215T110000
DTEND;TZID=America/New_York:20241215T130000
DTSTAMP:20260418T014113
CREATED:20241121T203056Z
LAST-MODIFIED:20241121T203056Z
UID:10000216-1734260400-1734267600@steamer10theatre.org
SUMMARY:CAST Auditions- A Wrinkle in Time
DESCRIPTION:Steamer No.10 Theatre is holding\nC.A.S.T. Program Auditions for\nA WRINKLE IN TIME\nBook by Madeleine L’Engle\nAdapted by Morgan Gould\nDirected (& Program led) by Cleis Hahn\nAuditions will be held Saturday & Sunday\, December 14 & 15 from 11:00am to 1:00pm.\nABOUT THE SHOW\nOne of literature’s most enduring young heroines\, Meg Murry\, is back — braces\, stubbornness and all. Once again\, she’s joining forces with Mrs Whatsit\, Charles Wallace\, Calvin O’Keefe and more to battle the forces of evil so she can rescue her father\, save humanity and find herself. In the end\, we know two things for sure: 1. Love CAN overcome evil and 2. There IS such a thing as a tesseract. Perfect for schools and touring groups\, this one-act adaptation of the beloved novel masterfully retells the story in a fresh and enduring way. \nSteamer No. 10 Theatre’s program directors are committed to building a diverse\, authentic cast\, supporting ALL students.  \nYoung artists of any gender identity\, ethnicity\, and neurodiversity are encouraged to audition!  \nPlease Note: This production is only casting student artists between ages 8-16. \nAUDITION INFO\nAUDITION DATE/TIME \nSaturday\, December 14\, 2024 and Sunday\, December 15\, 2024 \nLOCATION \nSteamer No. 10 Theatre \n500 Western Ave.\, Albany\, NY 12203 \nStreet parking is available on Western and Madison\, please do not park in the spots marked off for police vehicles. You may park within the Citizens Bank parking lot (Western Ave) after business hours\, but please take care to avoid handicap/unauthorized spaces with signage. \nAUDITION DETAILS\nSign-in will begin at 10:30 a.m.  \nAuditions will begin at 11:00 a.m. and end at 1:00 p.m. \nStudents need only attend one audition session\, though welcome to attend both. \nWHAT TO PREPARE \nSides or scripts will be provided for students to read from at the auditions. \nWe ask that students be prepared to fill out any conflicts they may have Mon.-Fri. evenings and Saturdays/Sundays from end of September through mid January. \nAdditionally\, we recommend wearing comfortable clothing and secure shoes. \nPRODUCTION DETAILS\nPERFORMANCE DATES \nMarch 21-23 and 28-30\, 2025\nFridays at 7pm\, Saturdays & Sundays at 3pm \nREHEARSAL INFORMATION \nRehearsals will generally be held on Tuesday and Thursday evenings and on Saturdays (time based on participant availability) regularly beginning January 11th. Due to this show’s condensed rehearsal period\, select students with may be called once or twice on alternate dates between December 16th & 21st. \nAttendance is mandatory for Tech Sunday (March 16\, 2024)\, Tech Week rehearsals (March 17-20\, 2025 with one dark day TBA)  and all performances. \nPlease contact eleahjayne@steamer10theatre.org with any questions or if a student is interested in auditioning but cannot make the audition dates. \nTuition for this program is $350.00 \nWe hope you’ll join us for our Spring C.A.S.T production of this beloved classic!
URL:https://steamer10theatre.org/event/cast-auditions-a-wrinkle-in-time/
LOCATION:Steamer N.10 Theatre\, 500 Western Ave\, Albany\, NY\, 12203\, United States
ATTACH;FMTTYPE=image/png:https://steamer10theatre.org/wp-content/uploads/2024/11/Adapted-by-Morgan-Gould-1.png
ORGANIZER;CN="Eleah Jayne":MAILTO:eleahjayne@steamer10theatre.org
END:VEVENT
BEGIN:VEVENT
DTSTART;TZID=America/New_York:20241215T190000
DTEND;TZID=America/New_York:20241215T203000
DTSTAMP:20260418T014113
CREATED:20241211T202423Z
LAST-MODIFIED:20241211T202540Z
UID:10000223-1734289200-1734294600@steamer10theatre.org
SUMMARY:Cathy's Classics screens "The Thin Man"
DESCRIPTION:(1934) Comedy – Mystery\, B&W\, 91 min.\nSunday\, December 15 at 7:00 pm\nAdmission free\, $5 donation suggested. \nFormer detective Nick Charles and his wealthy wife Nora investigate a murder case\, mostly for the fun of it. \nDir.: W.S. Van Dyke; Starring: William Powell\, Myrna Loy
URL:https://steamer10theatre.org/event/cathys-classics-screens-the-thin-man/
LOCATION:Steamer N.10 Theatre\, 500 Western Ave\, Albany\, NY\, 12203\, United States
ATTACH;FMTTYPE=image/jpeg:https://steamer10theatre.org/wp-content/uploads/2024/12/The_Thin_Man_1934_Poster.jpg
ORGANIZER;CN="Ric Chesser":MAILTO:info@steamer10theatre.org
END:VEVENT
END:VCALENDAR